BEGIN:VCALENDAR
VERSION:2.0
PRODID:-//Washtenaw Christian Academy - ECPv6.15.12.2//NONSGML v1.0//EN
CALSCALE:GREGORIAN
METHOD:PUBLISH
X-WR-CALNAME:Washtenaw Christian Academy
X-ORIGINAL-URL:https://washtenawchristian.dev.wpe.dlcloud.one
X-WR-CALDESC:Events for Washtenaw Christian Academy
REFRESH-INTERVAL;VALUE=DURATION:PT1H
X-Robots-Tag:noindex
X-PUBLISHED-TTL:PT1H
BEGIN:VTIMEZONE
TZID:America/Halifax
BEGIN:DAYLIGHT
TZOFFSETFROM:-0400
TZOFFSETTO:-0300
TZNAME:ADT
DTSTART:20240310T060000
END:DAYLIGHT
BEGIN:STANDARD
TZOFFSETFROM:-0300
TZOFFSETTO:-0400
TZNAME:AST
DTSTART:20241103T050000
END:STANDARD
BEGIN:DAYLIGHT
TZOFFSETFROM:-0400
TZOFFSETTO:-0300
TZNAME:ADT
DTSTART:20250309T060000
END:DAYLIGHT
BEGIN:STANDARD
TZOFFSETFROM:-0300
TZOFFSETTO:-0400
TZNAME:AST
DTSTART:20251102T050000
END:STANDARD
BEGIN:DAYLIGHT
TZOFFSETFROM:-0400
TZOFFSETTO:-0300
TZNAME:ADT
DTSTART:20260308T060000
END:DAYLIGHT
BEGIN:STANDARD
TZOFFSETFROM:-0300
TZOFFSETTO:-0400
TZNAME:AST
DTSTART:20261101T050000
END:STANDARD
END:VTIMEZONE
BEGIN:VTIMEZONE
TZID:America/New_York
BEGIN:DAYLIGHT
TZOFFSETFROM:-0500
TZOFFSETTO:-0400
TZNAME:EDT
DTSTART:20240310T070000
END:DAYLIGHT
BEGIN:STANDARD
TZOFFSETFROM:-0400
TZOFFSETTO:-0500
TZNAME:EST
DTSTART:20241103T060000
END:STANDARD
BEGIN:DAYLIGHT
TZOFFSETFROM:-0500
TZOFFSETTO:-0400
TZNAME:EDT
DTSTART:20250309T070000
END:DAYLIGHT
BEGIN:STANDARD
TZOFFSETFROM:-0400
TZOFFSETTO:-0500
TZNAME:EST
DTSTART:20251102T060000
END:STANDARD
BEGIN:DAYLIGHT
TZOFFSETFROM:-0500
TZOFFSETTO:-0400
TZNAME:EDT
DTSTART:20260308T070000
END:DAYLIGHT
BEGIN:STANDARD
TZOFFSETFROM:-0400
TZOFFSETTO:-0500
TZNAME:EST
DTSTART:20261101T060000
END:STANDARD
END:VTIMEZONE
BEGIN:VEVENT
DTSTART;TZID=America/Halifax:20250917T080000
DTEND;TZID=America/Halifax:20250917T150000
DTSTAMP:20260421T125018
CREATED:20250909T133724Z
LAST-MODIFIED:20250909T200015Z
UID:10000592-1758096000-1758121200@washtenawchristian.dev.wpe.dlcloud.one
SUMMARY:Picture Day
DESCRIPTION:
URL:https://washtenawchristian.dev.wpe.dlcloud.one/event/picture-day/
CATEGORIES:Main Calendar
END:VEVENT
BEGIN:VEVENT
DTSTART;TZID=America/New_York:20250916T183000
DTEND;TZID=America/New_York:20250916T183000
DTSTAMP:20260421T125018
CREATED:20250806T191309Z
LAST-MODIFIED:20250807T014000Z
UID:10000158-1758047400-1758047400@washtenawchristian.dev.wpe.dlcloud.one
SUMMARY:AWAY: Varsity Girls Volleyball @ Bloomfield
DESCRIPTION:
URL:https://washtenawchristian.dev.wpe.dlcloud.one/event/away-varsity-girls-volleyball-bloomfield/
LOCATION:Bloomfield Christian\, 3570 Telegraph Rd\, Bloomfield Hills\, MI\, 48302\, US
CATEGORIES:Varsity Girls Volleyball
END:VEVENT
BEGIN:VEVENT
DTSTART;TZID=America/New_York:20250916T173000
DTEND;TZID=America/New_York:20250916T173000
DTSTAMP:20260421T125018
CREATED:20250806T191308Z
LAST-MODIFIED:20250807T014000Z
UID:10000156-1758043800-1758043800@washtenawchristian.dev.wpe.dlcloud.one
SUMMARY:AWAY: Varsity Boys Soccer @ Bloomfield
DESCRIPTION:
URL:https://washtenawchristian.dev.wpe.dlcloud.one/event/away-varsity-boys-soccer-bloomfield/
LOCATION:Bloomfield Christian\, 3570 Telegraph Rd\, Bloomfield Hills\, MI\, 48302\, US
CATEGORIES:Varsity Boys Soccer
END:VEVENT
BEGIN:VEVENT
DTSTART;TZID=America/New_York:20250916T173000
DTEND;TZID=America/New_York:20250916T173000
DTSTAMP:20260421T125018
CREATED:20250806T191308Z
LAST-MODIFIED:20250807T014000Z
UID:10000157-1758043800-1758043800@washtenawchristian.dev.wpe.dlcloud.one
SUMMARY:HOME: Middle School Girls Volleyball v. St. Mary
DESCRIPTION:
URL:https://washtenawchristian.dev.wpe.dlcloud.one/event/home-middle-school-girls-volleyball-v-st-mary/
CATEGORIES:Middle School Girls Volleyball
END:VEVENT
BEGIN:VEVENT
DTSTART;TZID=America/New_York:20250916T170000
DTEND;TZID=America/New_York:20250916T183000
DTSTAMP:20260421T125018
CREATED:20250806T204700Z
LAST-MODIFIED:20250807T014000Z
UID:10000514-1758042000-1758047400@washtenawchristian.dev.wpe.dlcloud.one
SUMMARY:JV A Girls Volleyball Practice
DESCRIPTION:
URL:https://washtenawchristian.dev.wpe.dlcloud.one/event/jv-a-girls-volleyball-practice-38/
LOCATION:WCA Cafetorinasium\, 7200 Moon Rd\, Saline\, MI\, 48176\, US
CATEGORIES:JV Girls Volleyball
END:VEVENT
BEGIN:VEVENT
DTSTART;TZID=America/New_York:20250916T163000
DTEND;TZID=America/New_York:20250916T163000
DTSTAMP:20260421T125018
CREATED:20250806T191308Z
LAST-MODIFIED:20250807T014000Z
UID:10000154-1758040200-1758040200@washtenawchristian.dev.wpe.dlcloud.one
SUMMARY:HOME: 5th/6th Girls Volleyball v. St. Mary
DESCRIPTION:
URL:https://washtenawchristian.dev.wpe.dlcloud.one/event/home-5th-6th-girls-volleyball-v-st-mary/
CATEGORIES:5th/6th Girls Volleyball
END:VEVENT
BEGIN:VEVENT
DTSTART;TZID=America/New_York:20250916T154000
DTEND;TZID=America/New_York:20250916T170000
DTSTAMP:20260421T125018
CREATED:20250806T204500Z
LAST-MODIFIED:20250807T013903Z
UID:10000513-1758037200-1758042000@washtenawchristian.dev.wpe.dlcloud.one
SUMMARY:Middle School Boys Soccer Practice
DESCRIPTION:
URL:https://washtenawchristian.dev.wpe.dlcloud.one/event/middle-school-boys-soccer-practice-25/
CATEGORIES:Middle School Boys Soccer
END:VEVENT
BEGIN:VEVENT
DTSTART;TZID=America/New_York:20250915T170000
DTEND;TZID=America/New_York:20250915T190000
DTSTAMP:20260421T125018
CREATED:20250806T204459Z
LAST-MODIFIED:20250807T013903Z
UID:10000512-1757955600-1757962800@washtenawchristian.dev.wpe.dlcloud.one
SUMMARY:Varsity Boys Soccer Practice
DESCRIPTION:
URL:https://washtenawchristian.dev.wpe.dlcloud.one/event/varsity-boys-soccer-practice-50/
CATEGORIES:Varsity Boys Soccer
END:VEVENT
BEGIN:VEVENT
DTSTART;TZID=America/New_York:20250915T163000
DTEND;TZID=America/New_York:20250915T163000
DTSTAMP:20260421T125018
CREATED:20250806T191107Z
LAST-MODIFIED:20250807T013903Z
UID:10000150-1757953800-1757953800@washtenawchristian.dev.wpe.dlcloud.one
SUMMARY:AWAY: Middle School Boys Soccer @ Ivywood
DESCRIPTION:
URL:https://washtenawchristian.dev.wpe.dlcloud.one/event/away-middle-school-boys-soccer-ivywood/
LOCATION:Marv Gans Park\, 15801 Beck Rd\, Northville\, MI\, 48167\, US
CATEGORIES:Middle School Boys Soccer
END:VEVENT
BEGIN:VEVENT
DTSTART;TZID=America/New_York:20250915T163000
DTEND;TZID=America/New_York:20250915T163000
DTSTAMP:20260421T125018
CREATED:20250806T191107Z
LAST-MODIFIED:20250807T013903Z
UID:10000151-1757953800-1757953800@washtenawchristian.dev.wpe.dlcloud.one
SUMMARY:AWAY: JV A Girls Volleyball @ Ivywood
DESCRIPTION:
URL:https://washtenawchristian.dev.wpe.dlcloud.one/event/away-jv-a-girls-volleyball-ivywood/
LOCATION:Ivywood Classical Academy\, 14356 Genoa Ct.\, Plymouth\, MI\, 48170\, US
CATEGORIES:JV Girls Volleyball
END:VEVENT
BEGIN:VEVENT
DTSTART;TZID=America/New_York:20250915T160000
DTEND;TZID=America/New_York:20250915T173000
DTSTAMP:20260421T125018
CREATED:20250806T204459Z
LAST-MODIFIED:20250807T013903Z
UID:10000511-1757952000-1757957400@washtenawchristian.dev.wpe.dlcloud.one
SUMMARY:MV XC Practice
DESCRIPTION:
URL:https://washtenawchristian.dev.wpe.dlcloud.one/event/mv-xc-practice-31/
CATEGORIES:Cross Country
END:VEVENT
BEGIN:VEVENT
DTSTART;TZID=America/New_York:20250915T154000
DTEND;TZID=America/New_York:20250915T173000
DTSTAMP:20260421T125018
CREATED:20250806T204258Z
LAST-MODIFIED:20250807T013759Z
UID:10000510-1757950800-1757957400@washtenawchristian.dev.wpe.dlcloud.one
SUMMARY:Varsity Girls Volleyball Practice
DESCRIPTION:
URL:https://washtenawchristian.dev.wpe.dlcloud.one/event/varsity-girls-volleyball-practice-43/
CATEGORIES:Varsity Girls Volleyball
END:VEVENT
BEGIN:VEVENT
DTSTART;TZID=America/New_York:20250915T154000
DTEND;TZID=America/New_York:20250915T170000
DTSTAMP:20260421T125018
CREATED:20250806T204258Z
LAST-MODIFIED:20250807T013759Z
UID:10000508-1757950800-1757955600@washtenawchristian.dev.wpe.dlcloud.one
SUMMARY:7th/8th Girls Volleyball Practice
DESCRIPTION:
URL:https://washtenawchristian.dev.wpe.dlcloud.one/event/7th-8th-girls-volleyball-practice-21/
CATEGORIES:Middle School Girls Volleyball
END:VEVENT
BEGIN:VEVENT
DTSTART;TZID=America/New_York:20250915T154000
DTEND;TZID=America/New_York:20250915T170000
DTSTAMP:20260421T125018
CREATED:20250806T204258Z
LAST-MODIFIED:20250807T013759Z
UID:10000509-1757950800-1757955600@washtenawchristian.dev.wpe.dlcloud.one
SUMMARY:5th/6th Girls Volleyball Practice
DESCRIPTION:
URL:https://washtenawchristian.dev.wpe.dlcloud.one/event/5th-6th-girls-volleyball-practice-29/
LOCATION:WCA Cafetorinasium\, 7200 Moon Rd\, Saline\, MI\, 48176\, US
CATEGORIES:5th/6th Girls Volleyball
END:VEVENT
BEGIN:VEVENT
DTSTART;VALUE=DATE:20250915
DTEND;VALUE=DATE:20250920
DTSTAMP:20260421T125018
CREATED:20250911T153528Z
LAST-MODIFIED:20250911T170222Z
UID:10000595-1757894400-1758326399@washtenawchristian.dev.wpe.dlcloud.one
SUMMARY:Elementary NWEA Testing
DESCRIPTION:
URL:https://washtenawchristian.dev.wpe.dlcloud.one/event/elementary-nwea-testing/
END:VEVENT
BEGIN:VEVENT
DTSTART;TZID=America/New_York:20250913T000000
DTEND;TZID=America/New_York:20250913T000000
DTSTAMP:20260421T125018
CREATED:20250806T191051Z
LAST-MODIFIED:20250807T013759Z
UID:10000145-1757721600-1757721600@washtenawchristian.dev.wpe.dlcloud.one
SUMMARY:AWAY: MV XC - Huron Invitational
DESCRIPTION:
URL:https://washtenawchristian.dev.wpe.dlcloud.one/event/away-mv-xc-huron-invitational/
LOCATION:Willow Metropark\, 32685 S. Hurron Rd\, New Boston\, MI\, 48164\, US
CATEGORIES:Cross Country
END:VEVENT
BEGIN:VEVENT
DTSTART;TZID=America/New_York:20250912T180000
DTEND;TZID=America/New_York:20250912T180000
DTSTAMP:20260421T125018
CREATED:20250806T191051Z
LAST-MODIFIED:20250807T013759Z
UID:10000144-1757700000-1757700000@washtenawchristian.dev.wpe.dlcloud.one
SUMMARY:HOME: Varsity Girls Volleyball v. Auburn Hills
DESCRIPTION:
URL:https://washtenawchristian.dev.wpe.dlcloud.one/event/home-varsity-girls-volleyball-v-auburn-hills/
CATEGORIES:Varsity Girls Volleyball
END:VEVENT
BEGIN:VEVENT
DTSTART;TZID=America/New_York:20250912T154000
DTEND;TZID=America/New_York:20250912T170000
DTSTAMP:20260421T125018
CREATED:20250806T204057Z
LAST-MODIFIED:20250807T013703Z
UID:10000507-1757691600-1757696400@washtenawchristian.dev.wpe.dlcloud.one
SUMMARY:5th/6th Girls Volleyball Practice
DESCRIPTION:
URL:https://washtenawchristian.dev.wpe.dlcloud.one/event/5th-6th-girls-volleyball-practice-28/
LOCATION:WCA Cafetorinasium\, 7200 Moon Rd\, Saline\, MI\, 48176\, US
CATEGORIES:5th/6th Girls Volleyball
END:VEVENT
BEGIN:VEVENT
DTSTART;TZID=America/New_York:20250912T090000
DTEND;TZID=America/New_York:20250912T213000
DTSTAMP:20260421T125018
CREATED:20250806T191047Z
LAST-MODIFIED:20250905T003708Z
UID:10000141-1757667600-1757712600@washtenawchristian.dev.wpe.dlcloud.one
SUMMARY:Middle School Retreat
DESCRIPTION:
URL:https://washtenawchristian.dev.wpe.dlcloud.one/event/middle-school-retreat/
CATEGORIES:Main Calendar
END:VEVENT
BEGIN:VEVENT
DTSTART;TZID=America/New_York:20250912T000000
DTEND;TZID=America/New_York:20250912T000000
DTSTAMP:20260421T125018
CREATED:20250806T191048Z
LAST-MODIFIED:20250807T013703Z
UID:10000142-1757635200-1757635200@washtenawchristian.dev.wpe.dlcloud.one
SUMMARY:AWAY: JV A Girls Volleyball @ Emmanuel
DESCRIPTION:
URL:https://washtenawchristian.dev.wpe.dlcloud.one/event/away-jv-a-girls-volleyball-emmanuel/
LOCATION:Emmanuel Christian School\, 4607 W. Laskey Rd\, Toledo\, OH\, 43623\, US
CATEGORIES:JV Girls Volleyball
END:VEVENT
BEGIN:VEVENT
DTSTART;TZID=America/New_York:20250912T000000
DTEND;TZID=America/New_York:20250912T000000
DTSTAMP:20260421T125018
CREATED:20250806T191047Z
LAST-MODIFIED:20250807T013703Z
UID:10000140-1757635200-1757635200@washtenawchristian.dev.wpe.dlcloud.one
SUMMARY:AWAY: Varsity Boys Soccer @ Emmanuel
DESCRIPTION:
URL:https://washtenawchristian.dev.wpe.dlcloud.one/event/away-varsity-boys-soccer-emmanuel/
LOCATION:Emmanuel Christian School\, 4607 W. Laskey Rd\, Toledo\, OH\, 43623\, US
CATEGORIES:Varsity Boys Soccer
END:VEVENT
BEGIN:VEVENT
DTSTART;TZID=America/Halifax:20250911T170000
DTEND;TZID=America/Halifax:20250911T190000
DTSTAMP:20260421T125018
CREATED:20250812T161332Z
LAST-MODIFIED:20250906T050924Z
UID:10000579-1757610000-1757617200@washtenawchristian.dev.wpe.dlcloud.one
SUMMARY:Back-to-School Picnic
DESCRIPTION:
URL:https://washtenawchristian.dev.wpe.dlcloud.one/event/back-to-school-picnic/
CATEGORIES:Main Calendar
END:VEVENT
BEGIN:VEVENT
DTSTART;TZID=America/New_York:20250911T170000
DTEND;TZID=America/New_York:20250911T190000
DTSTAMP:20260421T125018
CREATED:20250806T204057Z
LAST-MODIFIED:20250807T013703Z
UID:10000506-1757610000-1757617200@washtenawchristian.dev.wpe.dlcloud.one
SUMMARY:Varsity Boys Soccer Practice
DESCRIPTION:
URL:https://washtenawchristian.dev.wpe.dlcloud.one/event/varsity-boys-soccer-practice-49/
CATEGORIES:Varsity Boys Soccer
END:VEVENT
BEGIN:VEVENT
DTSTART;TZID=America/New_York:20250911T170000
DTEND;TZID=America/New_York:20250911T183000
DTSTAMP:20260421T125018
CREATED:20250806T203857Z
LAST-MODIFIED:20250807T013558Z
UID:10000505-1757610000-1757615400@washtenawchristian.dev.wpe.dlcloud.one
SUMMARY:JV A Girls Volleyball Practice
DESCRIPTION:
URL:https://washtenawchristian.dev.wpe.dlcloud.one/event/jv-a-girls-volleyball-practice-37/
CATEGORIES:JV Girls Volleyball
END:VEVENT
BEGIN:VEVENT
DTSTART;TZID=America/New_York:20250911T170000
DTEND;TZID=America/New_York:20250911T183000
DTSTAMP:20260421T125018
CREATED:20250806T203856Z
LAST-MODIFIED:20250807T013558Z
UID:10000504-1757610000-1757615400@washtenawchristian.dev.wpe.dlcloud.one
SUMMARY:Varsity Girls Volleyball Practice
DESCRIPTION:
URL:https://washtenawchristian.dev.wpe.dlcloud.one/event/varsity-girls-volleyball-practice-42/
CATEGORIES:Varsity Girls Volleyball
END:VEVENT
BEGIN:VEVENT
DTSTART;TZID=America/New_York:20250911T154000
DTEND;TZID=America/New_York:20250911T170000
DTSTAMP:20260421T125018
CREATED:20250806T203856Z
LAST-MODIFIED:20250807T013558Z
UID:10000501-1757605200-1757610000@washtenawchristian.dev.wpe.dlcloud.one
SUMMARY:7th/8th Girls Volleyball Practice
DESCRIPTION:
URL:https://washtenawchristian.dev.wpe.dlcloud.one/event/7th-8th-girls-volleyball-practice-20/
CATEGORIES:Middle School Girls Volleyball
END:VEVENT
BEGIN:VEVENT
DTSTART;TZID=America/New_York:20250911T154000
DTEND;TZID=America/New_York:20250911T170000
DTSTAMP:20260421T125018
CREATED:20250806T203856Z
LAST-MODIFIED:20250807T013558Z
UID:10000502-1757605200-1757610000@washtenawchristian.dev.wpe.dlcloud.one
SUMMARY:5th/6th Girls Volleyball Practice
DESCRIPTION:
URL:https://washtenawchristian.dev.wpe.dlcloud.one/event/5th-6th-girls-volleyball-practice-27/
LOCATION:WCA Cafetorinasium\, 7200 Moon Rd\, Saline\, MI\, 48176\, US
CATEGORIES:5th/6th Girls Volleyball
END:VEVENT
BEGIN:VEVENT
DTSTART;TZID=America/New_York:20250911T154000
DTEND;TZID=America/New_York:20250911T170000
DTSTAMP:20260421T125018
CREATED:20250806T203856Z
LAST-MODIFIED:20250807T013558Z
UID:10000503-1757605200-1757610000@washtenawchristian.dev.wpe.dlcloud.one
SUMMARY:Middle School Boys Soccer Practice
DESCRIPTION:
URL:https://washtenawchristian.dev.wpe.dlcloud.one/event/middle-school-boys-soccer-practice-24/
CATEGORIES:Middle School Boys Soccer
END:VEVENT
BEGIN:VEVENT
DTSTART;TZID=America/New_York:20250910T160000
DTEND;TZID=America/New_York:20250910T170000
DTSTAMP:20260421T125018
CREATED:20250806T203655Z
LAST-MODIFIED:20250807T013502Z
UID:10000500-1757520000-1757523600@washtenawchristian.dev.wpe.dlcloud.one
SUMMARY:MV XC Practice
DESCRIPTION:
URL:https://washtenawchristian.dev.wpe.dlcloud.one/event/mv-xc-practice-30/
CATEGORIES:Cross Country
END:VEVENT
BEGIN:VEVENT
DTSTART;TZID=America/New_York:20250909T183000
DTEND;TZID=America/New_York:20250909T183000
DTSTAMP:20260421T125018
CREATED:20250806T190951Z
LAST-MODIFIED:20250807T013502Z
UID:10000132-1757442600-1757442600@washtenawchristian.dev.wpe.dlcloud.one
SUMMARY:HOME: Varsity Girls Volleyball v. Oakdale
DESCRIPTION:
URL:https://washtenawchristian.dev.wpe.dlcloud.one/event/home-varsity-girls-volleyball-v-oakdale/
CATEGORIES:Varsity Girls Volleyball
END:VEVENT
END:VCALENDAR