BEGIN:VCALENDAR
VERSION:2.0
PRODID:-//Washtenaw Christian Academy - ECPv6.15.12.2//NONSGML v1.0//EN
CALSCALE:GREGORIAN
METHOD:PUBLISH
X-WR-CALNAME:Washtenaw Christian Academy
X-ORIGINAL-URL:https://washtenawchristian.dev.wpe.dlcloud.one
X-WR-CALDESC:Events for Washtenaw Christian Academy
REFRESH-INTERVAL;VALUE=DURATION:PT1H
X-Robots-Tag:noindex
X-PUBLISHED-TTL:PT1H
BEGIN:VTIMEZONE
TZID:America/New_York
BEGIN:DAYLIGHT
TZOFFSETFROM:-0500
TZOFFSETTO:-0400
TZNAME:EDT
DTSTART:20240310T070000
END:DAYLIGHT
BEGIN:STANDARD
TZOFFSETFROM:-0400
TZOFFSETTO:-0500
TZNAME:EST
DTSTART:20241103T060000
END:STANDARD
BEGIN:DAYLIGHT
TZOFFSETFROM:-0500
TZOFFSETTO:-0400
TZNAME:EDT
DTSTART:20250309T070000
END:DAYLIGHT
BEGIN:STANDARD
TZOFFSETFROM:-0400
TZOFFSETTO:-0500
TZNAME:EST
DTSTART:20251102T060000
END:STANDARD
BEGIN:DAYLIGHT
TZOFFSETFROM:-0500
TZOFFSETTO:-0400
TZNAME:EDT
DTSTART:20260308T070000
END:DAYLIGHT
BEGIN:STANDARD
TZOFFSETFROM:-0400
TZOFFSETTO:-0500
TZNAME:EST
DTSTART:20261101T060000
END:STANDARD
END:VTIMEZONE
BEGIN:VTIMEZONE
TZID:America/Halifax
BEGIN:DAYLIGHT
TZOFFSETFROM:-0400
TZOFFSETTO:-0300
TZNAME:ADT
DTSTART:20240310T060000
END:DAYLIGHT
BEGIN:STANDARD
TZOFFSETFROM:-0300
TZOFFSETTO:-0400
TZNAME:AST
DTSTART:20241103T050000
END:STANDARD
BEGIN:DAYLIGHT
TZOFFSETFROM:-0400
TZOFFSETTO:-0300
TZNAME:ADT
DTSTART:20250309T060000
END:DAYLIGHT
BEGIN:STANDARD
TZOFFSETFROM:-0300
TZOFFSETTO:-0400
TZNAME:AST
DTSTART:20251102T050000
END:STANDARD
BEGIN:DAYLIGHT
TZOFFSETFROM:-0400
TZOFFSETTO:-0300
TZNAME:ADT
DTSTART:20260308T060000
END:DAYLIGHT
BEGIN:STANDARD
TZOFFSETFROM:-0300
TZOFFSETTO:-0400
TZNAME:AST
DTSTART:20261101T050000
END:STANDARD
END:VTIMEZONE
BEGIN:VEVENT
DTSTART;TZID=America/New_York:20250922T170000
DTEND;TZID=America/New_York:20250922T170000
DTSTAMP:20260421T091550
CREATED:20250806T191648Z
LAST-MODIFIED:20250807T014603Z
UID:10000179-1758560400-1758560400@washtenawchristian.dev.wpe.dlcloud.one
SUMMARY:HOME: Middle School Boys Soccer v. Livingston
DESCRIPTION:
URL:https://washtenawchristian.dev.wpe.dlcloud.one/event/home-middle-school-boys-soccer-v-livingston/
CATEGORIES:Middle School Boys Soccer
END:VEVENT
BEGIN:VEVENT
DTSTART;TZID=America/New_York:20250922T170000
DTEND;TZID=America/New_York:20250922T170000
DTSTAMP:20260421T091550
CREATED:20250806T191648Z
LAST-MODIFIED:20250807T014603Z
UID:10000180-1758560400-1758560400@washtenawchristian.dev.wpe.dlcloud.one
SUMMARY:HOME: 5th/6th Girls Volleyball v. Livingston
DESCRIPTION:
URL:https://washtenawchristian.dev.wpe.dlcloud.one/event/home-5th-6th-girls-volleyball-v-livingston/
CATEGORIES:5th/6th Girls Volleyball
END:VEVENT
BEGIN:VEVENT
DTSTART;TZID=America/New_York:20250922T160000
DTEND;TZID=America/New_York:20250922T173000
DTSTAMP:20260421T091550
CREATED:20250806T205443Z
LAST-MODIFIED:20250807T014403Z
UID:10000524-1758556800-1758562200@washtenawchristian.dev.wpe.dlcloud.one
SUMMARY:MV XC Practice
DESCRIPTION:
URL:https://washtenawchristian.dev.wpe.dlcloud.one/event/mv-xc-practice-33/
CATEGORIES:Cross Country
END:VEVENT
BEGIN:VEVENT
DTSTART;TZID=America/New_York:20250922T154000
DTEND;TZID=America/New_York:20250922T173000
DTSTAMP:20260421T091550
CREATED:20250806T205443Z
LAST-MODIFIED:20250807T014403Z
UID:10000522-1758555600-1758562200@washtenawchristian.dev.wpe.dlcloud.one
SUMMARY:JV A Girls Volleyball Practice
DESCRIPTION:
URL:https://washtenawchristian.dev.wpe.dlcloud.one/event/jv-a-girls-volleyball-practice-39/
LOCATION:WCA Cafetorinasium\, 7200 Moon Rd\, Saline\, MI\, 48176\, US
CATEGORIES:JV Girls Volleyball
END:VEVENT
BEGIN:VEVENT
DTSTART;TZID=America/New_York:20250922T154000
DTEND;TZID=America/New_York:20250922T173000
DTSTAMP:20260421T091550
CREATED:20250806T205443Z
LAST-MODIFIED:20250807T014403Z
UID:10000523-1758555600-1758562200@washtenawchristian.dev.wpe.dlcloud.one
SUMMARY:Varsity Girls Volleyball Practice
DESCRIPTION:
URL:https://washtenawchristian.dev.wpe.dlcloud.one/event/varsity-girls-volleyball-practice-45/
CATEGORIES:Varsity Girls Volleyball
END:VEVENT
BEGIN:VEVENT
DTSTART;VALUE=DATE:20250922
DTEND;VALUE=DATE:20251003
DTSTAMP:20260421T091550
CREATED:20250923T140408Z
LAST-MODIFIED:20250923T140408Z
UID:10000597-1758499200-1759449599@washtenawchristian.dev.wpe.dlcloud.one
SUMMARY:NWEA Testing
DESCRIPTION:
URL:https://washtenawchristian.dev.wpe.dlcloud.one/event/nwea-testing/
CATEGORIES:Main Calendar
END:VEVENT
BEGIN:VEVENT
DTSTART;TZID=America/New_York:20250920T090000
DTEND;TZID=America/New_York:20250920T090000
DTSTAMP:20260421T091550
CREATED:20250806T191636Z
LAST-MODIFIED:20250807T014403Z
UID:10000175-1758358800-1758358800@washtenawchristian.dev.wpe.dlcloud.one
SUMMARY:HOME: Varsity Volleyball Wildcat Invitational
DESCRIPTION:
URL:https://washtenawchristian.dev.wpe.dlcloud.one/event/home-varsity-volleyball-wildcat-invitational/
LOCATION:WCA\, 7200 Moon Rd\, Saline\, MI\, 48176\, US
CATEGORIES:Varsity Girls Volleyball
END:VEVENT
BEGIN:VEVENT
DTSTART;TZID=America/New_York:20250920T083000
DTEND;TZID=America/New_York:20250920T083000
DTSTAMP:20260421T091550
CREATED:20250806T191635Z
LAST-MODIFIED:20250807T014403Z
UID:10000174-1758357000-1758357000@washtenawchristian.dev.wpe.dlcloud.one
SUMMARY:HOME: Varsity Boys Soccer Autumn Classic Tournament
DESCRIPTION:
URL:https://washtenawchristian.dev.wpe.dlcloud.one/event/home-varsity-boys-soccer-autumn-classic-tournament/
LOCATION:WCA\, 7200 Moon Rd\, Saline\, MI\, 48176\, US
CATEGORIES:Varsity Boys Soccer
END:VEVENT
BEGIN:VEVENT
DTSTART;TZID=America/New_York:20250920T000000
DTEND;TZID=America/New_York:20250920T000000
DTSTAMP:20260421T091550
CREATED:20250806T191630Z
LAST-MODIFIED:20250807T014305Z
UID:10000173-1758326400-1758326400@washtenawchristian.dev.wpe.dlcloud.one
SUMMARY:AWAY: MV XC - Linden Classic Invitational
DESCRIPTION:
URL:https://washtenawchristian.dev.wpe.dlcloud.one/event/away-mv-xc-linden-classic-invitational/
LOCATION:Linden High School\, 7201 Silver Lake Rd\, Linden\, MI\, 48451\, US
CATEGORIES:Cross Country
END:VEVENT
BEGIN:VEVENT
DTSTART;TZID=America/New_York:20250919T170000
DTEND;TZID=America/New_York:20250919T190000
DTSTAMP:20260421T091550
CREATED:20250806T205304Z
LAST-MODIFIED:20250807T014305Z
UID:10000521-1758301200-1758308400@washtenawchristian.dev.wpe.dlcloud.one
SUMMARY:Varsity Boys Soccer Practice
DESCRIPTION:
URL:https://washtenawchristian.dev.wpe.dlcloud.one/event/varsity-boys-soccer-practice-52/
CATEGORIES:Varsity Boys Soccer
END:VEVENT
BEGIN:VEVENT
DTSTART;TZID=America/New_York:20250919T163000
DTEND;TZID=America/New_York:20250919T163000
DTSTAMP:20260421T091550
CREATED:20250806T191630Z
LAST-MODIFIED:20250807T014305Z
UID:10000171-1758299400-1758299400@washtenawchristian.dev.wpe.dlcloud.one
SUMMARY:HOME: JV Volleyball Wildcat Invitational Tournament
DESCRIPTION:
URL:https://washtenawchristian.dev.wpe.dlcloud.one/event/home-jv-volleyball-wildcat-invitational-tournament/
LOCATION:WCA Main Gymnasium\, 7200 Moon Road\, Saline\, MI\, 48176\, US
CATEGORIES:JV Girls Volleyball
END:VEVENT
BEGIN:VEVENT
DTSTART;TZID=America/New_York:20250919T154000
DTEND;TZID=America/New_York:20250919T170000
DTSTAMP:20260421T091550
CREATED:20250806T205303Z
LAST-MODIFIED:20250807T014305Z
UID:10000519-1758296400-1758301200@washtenawchristian.dev.wpe.dlcloud.one
SUMMARY:5th/6th Girls Volleyball Practice
DESCRIPTION:
URL:https://washtenawchristian.dev.wpe.dlcloud.one/event/5th-6th-girls-volleyball-practice-30/
CATEGORIES:5th/6th Girls Volleyball
END:VEVENT
BEGIN:VEVENT
DTSTART;TZID=America/New_York:20250919T154000
DTEND;TZID=America/New_York:20250919T170000
DTSTAMP:20260421T091550
CREATED:20250806T205303Z
LAST-MODIFIED:20250807T014305Z
UID:10000520-1758296400-1758301200@washtenawchristian.dev.wpe.dlcloud.one
SUMMARY:Middle School Boys Soccer Practice
DESCRIPTION:
URL:https://washtenawchristian.dev.wpe.dlcloud.one/event/middle-school-boys-soccer-practice-26/
CATEGORIES:Middle School Boys Soccer
END:VEVENT
BEGIN:VEVENT
DTSTART;TZID=America/New_York:20250919T154000
DTEND;TZID=America/New_York:20250919T170000
DTSTAMP:20260421T091550
CREATED:20250806T205102Z
LAST-MODIFIED:20250807T014202Z
UID:10000518-1758296400-1758301200@washtenawchristian.dev.wpe.dlcloud.one
SUMMARY:7th/8th Girls Volleyball Practice
DESCRIPTION:
URL:https://washtenawchristian.dev.wpe.dlcloud.one/event/7th-8th-girls-volleyball-practice-22/
LOCATION:WCA Cafetorinasium\, 7200 Moon Rd\, Saline\, MI\, 48176\, US
CATEGORIES:Middle School Girls Volleyball
END:VEVENT
BEGIN:VEVENT
DTSTART;TZID=America/New_York:20250919T000000
DTEND;TZID=America/New_York:20250919T000000
DTSTAMP:20260421T091550
CREATED:20250806T191624Z
LAST-MODIFIED:20250807T014201Z
UID:10000167-1758240000-1758240000@washtenawchristian.dev.wpe.dlcloud.one
SUMMARY:AWAY: Varsity Girls Volleyball Tri-Tournament @ Oakdale
DESCRIPTION:
URL:https://washtenawchristian.dev.wpe.dlcloud.one/event/away-varsity-girls-volleyball-tri-tournament-oakdale/
LOCATION:Oakdale Academy\, 3200 BEACHAM DRIVE\, WATERFORD 48329\, MI\, 48329\, US
CATEGORIES:Varsity Girls Volleyball
END:VEVENT
BEGIN:VEVENT
DTSTART;TZID=America/New_York:20250918T183000
DTEND;TZID=America/New_York:20250918T183000
DTSTAMP:20260421T091550
CREATED:20250806T191624Z
LAST-MODIFIED:20250807T014201Z
UID:10000166-1758220200-1758220200@washtenawchristian.dev.wpe.dlcloud.one
SUMMARY:AWAY: JV A Girls Volleyball @ Mid Michigan
DESCRIPTION:
URL:https://washtenawchristian.dev.wpe.dlcloud.one/event/away-jv-a-girls-volleyball-mid-michigan/
LOCATION:Gloria Dei Lutheran\, 5005 McCandllish Rd\, Grand Blanc\, MI\, 48439\, US
CATEGORIES:JV Girls Volleyball
END:VEVENT
BEGIN:VEVENT
DTSTART;TZID=America/New_York:20250918T173000
DTEND;TZID=America/New_York:20250918T173000
DTSTAMP:20260421T091550
CREATED:20250806T191624Z
LAST-MODIFIED:20250807T014201Z
UID:10000165-1758216600-1758216600@washtenawchristian.dev.wpe.dlcloud.one
SUMMARY:HOME: Middle School Girls Volleyball v. SSA AA
DESCRIPTION:
URL:https://washtenawchristian.dev.wpe.dlcloud.one/event/home-middle-school-girls-volleyball-v-ssa-aa/
CATEGORIES:Middle School Girls Volleyball
END:VEVENT
BEGIN:VEVENT
DTSTART;TZID=America/New_York:20250918T170000
DTEND;TZID=America/New_York:20250918T170000
DTSTAMP:20260421T091550
CREATED:20250806T191624Z
LAST-MODIFIED:20250807T014201Z
UID:10000164-1758214800-1758214800@washtenawchristian.dev.wpe.dlcloud.one
SUMMARY:AWAY: Varsity Boys Soccer @ Central
DESCRIPTION:
URL:https://washtenawchristian.dev.wpe.dlcloud.one/event/away-varsity-boys-soccer-central/
LOCATION:Central Academy\, 2455 S Indusrial Hwy\, Ann Arbor\, MI\, 48104\, US
CATEGORIES:Varsity Boys Soccer
END:VEVENT
BEGIN:VEVENT
DTSTART;TZID=America/New_York:20250918T163000
DTEND;TZID=America/New_York:20250918T163000
DTSTAMP:20260421T091550
CREATED:20250806T191510Z
LAST-MODIFIED:20250807T014104Z
UID:10000162-1758213000-1758213000@washtenawchristian.dev.wpe.dlcloud.one
SUMMARY:HOME: Middle School Boys Soccer v. SSA AA
DESCRIPTION:
URL:https://washtenawchristian.dev.wpe.dlcloud.one/event/home-middle-school-boys-soccer-v-ssa-aa/
CATEGORIES:Middle School Boys Soccer
END:VEVENT
BEGIN:VEVENT
DTSTART;TZID=America/New_York:20250918T163000
DTEND;TZID=America/New_York:20250918T163000
DTSTAMP:20260421T091550
CREATED:20250806T191510Z
LAST-MODIFIED:20250807T014104Z
UID:10000163-1758213000-1758213000@washtenawchristian.dev.wpe.dlcloud.one
SUMMARY:HOME: 5th/6th Girls Volleyball v. SSA AA
DESCRIPTION:
URL:https://washtenawchristian.dev.wpe.dlcloud.one/event/home-5th-6th-girls-volleyball-v-ssa-aa/
CATEGORIES:5th/6th Girls Volleyball
END:VEVENT
BEGIN:VEVENT
DTSTART;TZID=America/New_York:20250918T154000
DTEND;TZID=America/New_York:20250918T173000
DTSTAMP:20260421T091550
CREATED:20250806T204901Z
LAST-MODIFIED:20250807T014104Z
UID:10000517-1758210000-1758216600@washtenawchristian.dev.wpe.dlcloud.one
SUMMARY:Varsity Girls Volleyball Practice
DESCRIPTION:
URL:https://washtenawchristian.dev.wpe.dlcloud.one/event/varsity-girls-volleyball-practice-44/
LOCATION:WCA Cafetorinasium\, 7200 Moon Rd\, Saline\, MI\, 48176\, US
CATEGORIES:Varsity Girls Volleyball
END:VEVENT
BEGIN:VEVENT
DTSTART;TZID=America/Halifax:20250918T080000
DTEND;TZID=America/Halifax:20250918T150000
DTSTAMP:20260421T091550
CREATED:20250909T133848Z
LAST-MODIFIED:20250909T200037Z
UID:10000593-1758182400-1758207600@washtenawchristian.dev.wpe.dlcloud.one
SUMMARY:Picture Day
DESCRIPTION:
URL:https://washtenawchristian.dev.wpe.dlcloud.one/event/picture-day-2/
CATEGORIES:Main Calendar
END:VEVENT
BEGIN:VEVENT
DTSTART;TZID=America/New_York:20250917T160000
DTEND;TZID=America/New_York:20250917T170000
DTSTAMP:20260421T091550
CREATED:20250806T204901Z
LAST-MODIFIED:20250807T014104Z
UID:10000516-1758124800-1758128400@washtenawchristian.dev.wpe.dlcloud.one
SUMMARY:MV XC Practice
DESCRIPTION:
URL:https://washtenawchristian.dev.wpe.dlcloud.one/event/mv-xc-practice-32/
CATEGORIES:Cross Country
END:VEVENT
BEGIN:VEVENT
DTSTART;TZID=America/New_York:20250917T154000
DTEND;TZID=America/New_York:20250917T170000
DTSTAMP:20260421T091550
CREATED:20250806T204901Z
LAST-MODIFIED:20250807T014104Z
UID:10000515-1758123600-1758128400@washtenawchristian.dev.wpe.dlcloud.one
SUMMARY:Varsity Boys Soccer Practice
DESCRIPTION:
URL:https://washtenawchristian.dev.wpe.dlcloud.one/event/varsity-boys-soccer-practice-51/
CATEGORIES:Varsity Boys Soccer
END:VEVENT
BEGIN:VEVENT
DTSTART;TZID=America/Halifax:20250917T080000
DTEND;TZID=America/Halifax:20250917T150000
DTSTAMP:20260421T091550
CREATED:20250909T133724Z
LAST-MODIFIED:20250909T200015Z
UID:10000592-1758096000-1758121200@washtenawchristian.dev.wpe.dlcloud.one
SUMMARY:Picture Day
DESCRIPTION:
URL:https://washtenawchristian.dev.wpe.dlcloud.one/event/picture-day/
CATEGORIES:Main Calendar
END:VEVENT
BEGIN:VEVENT
DTSTART;TZID=America/New_York:20250916T183000
DTEND;TZID=America/New_York:20250916T183000
DTSTAMP:20260421T091550
CREATED:20250806T191309Z
LAST-MODIFIED:20250807T014000Z
UID:10000158-1758047400-1758047400@washtenawchristian.dev.wpe.dlcloud.one
SUMMARY:AWAY: Varsity Girls Volleyball @ Bloomfield
DESCRIPTION:
URL:https://washtenawchristian.dev.wpe.dlcloud.one/event/away-varsity-girls-volleyball-bloomfield/
LOCATION:Bloomfield Christian\, 3570 Telegraph Rd\, Bloomfield Hills\, MI\, 48302\, US
CATEGORIES:Varsity Girls Volleyball
END:VEVENT
BEGIN:VEVENT
DTSTART;TZID=America/New_York:20250916T173000
DTEND;TZID=America/New_York:20250916T173000
DTSTAMP:20260421T091550
CREATED:20250806T191308Z
LAST-MODIFIED:20250807T014000Z
UID:10000156-1758043800-1758043800@washtenawchristian.dev.wpe.dlcloud.one
SUMMARY:AWAY: Varsity Boys Soccer @ Bloomfield
DESCRIPTION:
URL:https://washtenawchristian.dev.wpe.dlcloud.one/event/away-varsity-boys-soccer-bloomfield/
LOCATION:Bloomfield Christian\, 3570 Telegraph Rd\, Bloomfield Hills\, MI\, 48302\, US
CATEGORIES:Varsity Boys Soccer
END:VEVENT
BEGIN:VEVENT
DTSTART;TZID=America/New_York:20250916T173000
DTEND;TZID=America/New_York:20250916T173000
DTSTAMP:20260421T091550
CREATED:20250806T191308Z
LAST-MODIFIED:20250807T014000Z
UID:10000157-1758043800-1758043800@washtenawchristian.dev.wpe.dlcloud.one
SUMMARY:HOME: Middle School Girls Volleyball v. St. Mary
DESCRIPTION:
URL:https://washtenawchristian.dev.wpe.dlcloud.one/event/home-middle-school-girls-volleyball-v-st-mary/
CATEGORIES:Middle School Girls Volleyball
END:VEVENT
BEGIN:VEVENT
DTSTART;TZID=America/New_York:20250916T170000
DTEND;TZID=America/New_York:20250916T183000
DTSTAMP:20260421T091550
CREATED:20250806T204700Z
LAST-MODIFIED:20250807T014000Z
UID:10000514-1758042000-1758047400@washtenawchristian.dev.wpe.dlcloud.one
SUMMARY:JV A Girls Volleyball Practice
DESCRIPTION:
URL:https://washtenawchristian.dev.wpe.dlcloud.one/event/jv-a-girls-volleyball-practice-38/
LOCATION:WCA Cafetorinasium\, 7200 Moon Rd\, Saline\, MI\, 48176\, US
CATEGORIES:JV Girls Volleyball
END:VEVENT
BEGIN:VEVENT
DTSTART;TZID=America/New_York:20250916T163000
DTEND;TZID=America/New_York:20250916T163000
DTSTAMP:20260421T091550
CREATED:20250806T191308Z
LAST-MODIFIED:20250807T014000Z
UID:10000154-1758040200-1758040200@washtenawchristian.dev.wpe.dlcloud.one
SUMMARY:HOME: 5th/6th Girls Volleyball v. St. Mary
DESCRIPTION:
URL:https://washtenawchristian.dev.wpe.dlcloud.one/event/home-5th-6th-girls-volleyball-v-st-mary/
CATEGORIES:5th/6th Girls Volleyball
END:VEVENT
END:VCALENDAR